BEGIN:VCALENDAR
VERSION:2.0
PRODID:-//eventon.com NONSGML v1.0//EN
CALSCALE:GREGORIAN
METHOD:PUBLISH
BEGIN:VEVENT
UID:69e6011e2ad8e
DTSTAMP:20260420T103406Z
DTSTART:20260319T100000Z
DTEND:20260319T160000Z
LOCATION:
SUMMARY:Charla: Cómo elaborar una hoja de vida o CV
DESCRIPTION:Charla: Cómo elaborar una hoja de vida o CV\nhttps://www.itsc.
 edu.do/events/charla-como-elaborar-una-hoja-de-vida-o-cv/
URL:https://www.itsc.edu.do/events/charla-como-elaborar-una-hoja-de-vida-o-cv/
END:VEVENT
END:VCALENDAR